BEGIN:VCALENDAR
VERSION:2.0
PRODID:-//Shelton Law &amp; Associates Law Firm - ECPv6.15.20//NONSGML v1.0//EN
CALSCALE:GREGORIAN
METHOD:PUBLISH
X-WR-CALNAME:Shelton Law &amp; Associates Law Firm
X-ORIGINAL-URL:https://sla.law
X-WR-CALDESC:Events for Shelton Law &amp; Associates Law Firm
REFRESH-INTERVAL;VALUE=DURATION:PT1H
X-Robots-Tag:noindex
X-PUBLISHED-TTL:PT1H
BEGIN:VTIMEZONE
TZID:America/Los_Angeles
BEGIN:DAYLIGHT
TZOFFSETFROM:-0800
TZOFFSETTO:-0700
TZNAME:PDT
DTSTART:20140309T100000
END:DAYLIGHT
BEGIN:STANDARD
TZOFFSETFROM:-0700
TZOFFSETTO:-0800
TZNAME:PST
DTSTART:20141102T090000
END:STANDARD
BEGIN:DAYLIGHT
TZOFFSETFROM:-0800
TZOFFSETTO:-0700
TZNAME:PDT
DTSTART:20150308T100000
END:DAYLIGHT
BEGIN:STANDARD
TZOFFSETFROM:-0700
TZOFFSETTO:-0800
TZNAME:PST
DTSTART:20151101T090000
END:STANDARD
BEGIN:DAYLIGHT
TZOFFSETFROM:-0800
TZOFFSETTO:-0700
TZNAME:PDT
DTSTART:20160313T100000
END:DAYLIGHT
BEGIN:STANDARD
TZOFFSETFROM:-0700
TZOFFSETTO:-0800
TZNAME:PST
DTSTART:20161106T090000
END:STANDARD
END:VTIMEZONE
BEGIN:VEVENT
DTSTART;VALUE=DATE:20151003
DTEND;VALUE=DATE:20151006
DTSTAMP:20260420T215513
CREATED:20150922T023057Z
LAST-MODIFIED:20150922T023352Z
UID:2132-1443830400-1444089599@sla.law
SUMMARY:Franchise Business & Opportunities Expo - Ft. Lauderdale
DESCRIPTION:  \n\nFace to face discussions with North America’s most successful franchisors with proven track records. Find the businesses that excite you\, shake hands\, and say hello!\nSouth Florida’s largest showcase of money-making\, full-time and part-time businesses from every industry now looking for owners.\n\nOctober 3-4\, 2015: Broward County Convention Center \nSat. 10am-4pm · Sun. 11am-4pm | $10 at the door | 2-for-1 online
URL:https://sla.law/event/franchise-business-opportunities-expo-ft-lauderdale/
LOCATION:Broward County Convention Center\, 1950 Eisenhower Boulevard\, Fort Lauderdale\, FL\, 33316\, United States
END:VEVENT
BEGIN:VEVENT
DTSTART;TZID=America/Los_Angeles:20150703T133000
DTEND;TZID=America/Los_Angeles:20150703T143000
DTSTAMP:20260420T215513
CREATED:20150528T031459Z
LAST-MODIFIED:20150528T031534Z
UID:2070-1435930200-1435933800@sla.law
SUMMARY:The Profitability of Franchising
DESCRIPTION:Prospective Franchisors will learn the economics of franchising their business. Attendees will evaluate the potential profit realized from creating a steady growth franchise model. Prospective Franchisors will participate in a ten year case study analyzing potential profit and expenditures for a franchise system. \nPresented by: Lynne D. Shelton\, Partner\, Shelton & Power\, LLC
URL:https://sla.law/event/the-profitability-of-franchising-3/
LOCATION:14th VPA Convention 2015\, 2001 Point West Way\, Sacramento\, CA\, 95815\, United States
ATTACH;FMTTYPE=image/png:https://sla.law/wp-content/uploads/Header_1145X150-2.png
END:VEVENT
BEGIN:VEVENT
DTSTART;TZID=America/Los_Angeles:20150620T153000
DTEND;TZID=America/Los_Angeles:20150620T163000
DTSTAMP:20260420T215513
CREATED:20150528T030452Z
LAST-MODIFIED:20150528T030452Z
UID:2062-1434814200-1434817800@sla.law
SUMMARY:What Do I Need to Know Before Buying a Franchise
DESCRIPTION:If you are looking to purchase a franchise\, then you must understand the legal documents and have a solid foundation to stand on when negotiating terms. This seminar is geared towards those looking to buy a franchise and serves as a “franchising 101” course. \nPresented by: Jason Power\, Esq.\, CFE\, Partner\, Shelton & Power\, LLC
URL:https://sla.law/event/what-do-i-need-to-know-before-buying-a-franchise-3/
LOCATION:FL
ATTACH;FMTTYPE=image/png:https://sla.law/wp-content/uploads/ife-home-slide-fg.png
END:VEVENT
BEGIN:VEVENT
DTSTART;TZID=America/Los_Angeles:20150619T153000
DTEND;TZID=America/Los_Angeles:20150619T170000
DTSTAMP:20260420T215513
CREATED:20150528T031040Z
LAST-MODIFIED:20150528T031133Z
UID:2067-1434727800-1434733200@sla.law
SUMMARY:Married Couples as Business Partners: The Pros and Cons
DESCRIPTION:There are several franchise owners who not only work together in the field but also in the home as spouses. This is not uncommon however if you do decide to work together\, here are some tips. 1. To have a successful “family business”\, it is important to point out each others weaknesses and strengths. You also have to pinpoint who is responsible for what. It’s impossible for both of you to be in charge of everything. 2. Make sure that you understand the business that you get into. Most buyers focus on the facts and the figures\, this is important however\, it will not make you happy. Ask the questions: Who are the customers and will you enjoy dealing with them? What does your life look like as the owners? 3. Know how to separate work life from family life. It can be hard to do but it can be done. Learn to take the professional hat off and make time to ask the easy questions like- “Where’s the remote?” \nPresented by: Lynne D. Shelton\, Partner\, Shelton & Power\, LLC\nPanelists: Vincent and Thaija Stoakley\, Franchisees\, Pillar to Post Home Inspections; Sheila and Chris Korte\, Franchisees\, Cruise Planners American Express
URL:https://sla.law/event/married-couples-as-business-partners-the-pros-and-cons/
LOCATION:FL
ATTACH;FMTTYPE=image/png:https://sla.law/wp-content/uploads/ife-home-slide-fg.png
END:VEVENT
BEGIN:VEVENT
DTSTART;TZID=America/Los_Angeles:20150619T140000
DTEND;TZID=America/Los_Angeles:20150619T150000
DTSTAMP:20260420T215513
CREATED:20150528T030306Z
LAST-MODIFIED:20150528T030345Z
UID:2060-1434722400-1434726000@sla.law
SUMMARY:What Do I Need to Know Before Buying a Franchise
DESCRIPTION:If you are looking to purchase a franchise\, then you must understand the legal documents and have a solid foundation to stand on when negotiating terms. This seminar is geared towards those looking to buy a franchise and serves as a “franchising 101” course. \nPresented by: Jason Power\, Esq.\, CFE\, Partner\, Shelton & Power\, LLC
URL:https://sla.law/event/what-do-i-need-to-know-before-buying-a-franchise-2/
LOCATION:FL
ATTACH;FMTTYPE=image/png:https://sla.law/wp-content/uploads/ife-home-slide-fg.png
END:VEVENT
BEGIN:VEVENT
DTSTART;TZID=America/Los_Angeles:20150618T153000
DTEND;TZID=America/Los_Angeles:20150618T163000
DTSTAMP:20260420T215513
CREATED:20150522T024139Z
LAST-MODIFIED:20150528T030013Z
UID:1926-1434641400-1434645000@sla.law
SUMMARY:What Do I Need to Know Before Buying a Franchise
DESCRIPTION:If you are looking to purchase a franchise\, then you must understand the legal documents and have a solid foundation to stand on when negotiating terms. This seminar is geared towards those looking to buy a franchise and serves as a “franchising 101” course. \nPresented by: Jason Power\, Esq.\, CFE\, Partner\, Shelton & Power\, LLC
URL:https://sla.law/event/what-do-i-need-to-know-before-buying-a-franchise/
LOCATION:FL
ATTACH;FMTTYPE=image/png:https://sla.law/wp-content/uploads/ife-home-slide-fg.png
END:VEVENT
END:VCALENDAR