BEGIN:VCALENDAR
VERSION:2.0
PRODID:-//Shelton Law &amp; Associates Law Firm - ECPv6.15.20//NONSGML v1.0//EN
CALSCALE:GREGORIAN
METHOD:PUBLISH
X-WR-CALNAME:Shelton Law &amp; Associates Law Firm
X-ORIGINAL-URL:https://sla.law
X-WR-CALDESC:Events for Shelton Law &amp; Associates Law Firm
REFRESH-INTERVAL;VALUE=DURATION:PT1H
X-Robots-Tag:noindex
X-PUBLISHED-TTL:PT1H
BEGIN:VTIMEZONE
TZID:America/Chicago
BEGIN:DAYLIGHT
TZOFFSETFROM:-0600
TZOFFSETTO:-0500
TZNAME:CDT
DTSTART:20230312T080000
END:DAYLIGHT
BEGIN:STANDARD
TZOFFSETFROM:-0500
TZOFFSETTO:-0600
TZNAME:CST
DTSTART:20231105T070000
END:STANDARD
BEGIN:DAYLIGHT
TZOFFSETFROM:-0600
TZOFFSETTO:-0500
TZNAME:CDT
DTSTART:20240310T080000
END:DAYLIGHT
BEGIN:STANDARD
TZOFFSETFROM:-0500
TZOFFSETTO:-0600
TZNAME:CST
DTSTART:20241103T070000
END:STANDARD
BEGIN:DAYLIGHT
TZOFFSETFROM:-0600
TZOFFSETTO:-0500
TZNAME:CDT
DTSTART:20250309T080000
END:DAYLIGHT
BEGIN:STANDARD
TZOFFSETFROM:-0500
TZOFFSETTO:-0600
TZNAME:CST
DTSTART:20251102T070000
END:STANDARD
END:VTIMEZONE
BEGIN:VEVENT
DTSTART;TZID=America/Chicago:20240406T110000
DTEND;TZID=America/Chicago:20240407T160000
DTSTAMP:20260419T091859
CREATED:20240305T003927Z
LAST-MODIFIED:20240305T004040Z
UID:4020-1712401200-1712505600@sla.law
SUMMARY:The Franchise Show - Chicago
DESCRIPTION:Come to the Largest “Own Your Own Business” Event in Chicago!\nSee the most successful franchises + brand-new opportunities from every industry. Some of our past exhibitors include: \nYour only opportunity to see and compare all your full and part-time business ownership options under one roof! – Save Hundreds of Hours of Research Time! \nProven\, money making businesses that are now expanding in San Francisco are here to meet new potential owners. This is your only opportunity to meet with the hottest businesses face to face. Ask questions and get the information you need in a no pressure environment. Be there\, find the businesses that excite you\, shake hands and say hello! \nFree Seminars\nLearn the ins and outs of franchise ownership\, so you can make an educated decision about your future. Plus\, learn about starting and growing your business. Seminar topics include: Legal Advice\, How To Choose The Business For You\, Financing Options\, Government Assistance Programs and much more.
URL:https://sla.law/event/the-franchise-show-chicago/
LOCATION:Donald E. Stephens Convention Center\, 5555 N River Rd\, Rosemont\, IL\, 60018\, United States
CATEGORIES:Expo,Webinar
ORGANIZER;CN="National Event Management":MAILTO:info@franchiseshowinfo.com
END:VEVENT
END:VCALENDAR